BEGIN:VCALENDAR
PRODID:http://wibix.de/infusions/pro_download_panel/download.php?did=27
VERSION:2.0
METHOD:PUBLISH
BEGIN:VEVENT
DTSTART:20240908T073000Z
DTEND:20240908T120000Z
UID:231@https://www.morraruters.nl/
DTSTAMP:20240902T201139Z
DESCRIPTION:Op zondag 8 september organiseren wij nu onze onderlinge wedstrijd. Niet op zaterdag dus omdat er een helikoptervlucht vlak bij de manege is, hebben we de onderlinge verplaatst naar de zondags.\nAanvang  dressuur: 10.00 uur springen 12.00 uur
SUMMARY:Onderlinge wedstrijd in de Feestweek
CLASS:PUBLIC
END:VEVENT
END:VCALENDAR
