BEGIN:VCALENDAR
PRODID:http://wibix.de/infusions/pro_download_panel/download.php?did=27
VERSION:2.0
METHOD:PUBLISH
BEGIN:VEVENT
DTSTART:20250126T080000Z
DTEND:20250126T170000Z
UID:254@https://www.morraruters.nl/
DTSTAMP:20250104T085443Z
DESCRIPTION:Op zondag 26 januari organiseren wij een indoor dressuurwedstrijd voor Friese Paarden welke meetelt voor de Horse2Fly indoor competitie.\nWe rijden de klasse B &amp; Z. Er kunnen 2 proeven worden gereden.
SUMMARY:Indoor Dressuurwedstrijd voor Friese Paarden
LOCATION:Rijhal De Morraruters
CLASS:PUBLIC
END:VEVENT
END:VCALENDAR
