BEGIN:VCALENDAR
PRODID:http://wibix.de/infusions/pro_download_panel/download.php?did=27
VERSION:2.0
METHOD:PUBLISH
BEGIN:VEVENT
DTSTART:20260125T073000Z
DTEND:20260125T150000Z
UID:302@https://www.morraruters.nl/
DTSTAMP:20260114T172448Z
DESCRIPTION:Op zondag 25 januari is er de Horse2Fly selectiewedstrijd voor Friezen.\nHet is vandaag de klasse BB/B en Z 2 proeven kunnen er gereden worden
SUMMARY:Indoor Horse2Fly selectiewedstrijd Friezen
LOCATION:Rijhal De Morraruters
CLASS:PUBLIC
END:VEVENT
END:VCALENDAR
